Package: SVMDO Version: 1.4.7 Command: /Library/Frameworks/R.framework/Resources/bin/R CMD INSTALL SVMDO StartedAt: 2024-10-16 18:18:47 -0400 (Wed, 16 Oct 2024) EndedAt: 2024-10-16 18:19:29 -0400 (Wed, 16 Oct 2024) EllapsedTime: 41.3 seconds RetCode: 0 Status: OK