Package: SVMDO Version: 1.4.7 Maintainer: Mustafa Erhan Ozer MaintainerEmail: erhanozer19 at marun.edu.tr git_url: https://git.bioconductor.org/packages/SVMDO git_branch: RELEASE_3_19 git_last_commit: 53d7b05 git_last_commit_date: 2024-08-30 17:32:42 -0400 (Fri, 30 Aug 2024)