Package: SUITOR Version: 1.6.0 Command: rm -rf SUITOR.buildbin-libdir && mkdir SUITOR.buildbin-libdir && F:\biocbuild\bbs-3.19-bioc\R\bin\R.exe CMD INSTALL --build --library=SUITOR.buildbin-libdir SUITOR_1.6.0.tar.gz StartedAt: 2024-06-27 09:00:42 -0400 (Thu, 27 Jun 2024) EndedAt: 2024-06-27 09:01:06 -0400 (Thu, 27 Jun 2024) EllapsedTime: 23.5 seconds RetCode: 0 Status: OK PackageFile: SUITOR_1.6.0.zip PackageFileSize: 314.2 KiB