Package: SUITOR Version: 1.6.0 Command: rm -rf SUITOR.buildbin-libdir && mkdir SUITOR.buildbin-libdir && /Users/biocbuild/BBS/utils/build-universal.sh SUITOR_1.6.0.tar.gz /Library/Frameworks/R.framework/Resources/bin/R SUITOR.buildbin-libdir StartedAt: 2024-06-10 00:42:38 -0400 (Mon, 10 Jun 2024) EndedAt: 2024-06-10 00:42:48 -0400 (Mon, 10 Jun 2024) EllapsedTime: 10.2 seconds RetCode: 0 Status: OK PackageFile: SUITOR_1.6.0.tgz PackageFileSize: 310.3 KiB