Package: SUITOR Version: 1.6.0 Command: /home/biocbuild/R/R-beta-2024-04-15_r86425/bin/R CMD build --keep-empty-dirs --no-resave-data SUITOR StartedAt: 2024-05-09 03:58:20 -0000 (Thu, 09 May 2024) EndedAt: 2024-05-09 04:00:04 -0000 (Thu, 09 May 2024) EllapsedTime: 104.1 seconds RetCode: 0 Status: OK PackageFile: SUITOR_1.6.0.tar.gz PackageFileSize: 245.7 KiB