Package: SUITOR Version: 1.6.0 Command: /Library/Frameworks/R.framework/Resources/bin/R CMD build --keep-empty-dirs --no-resave-data SUITOR StartedAt: 2024-10-17 10:19:46 -0400 (Thu, 17 Oct 2024) EndedAt: 2024-10-17 10:21:18 -0400 (Thu, 17 Oct 2024) EllapsedTime: 91.9 seconds RetCode: 0 Status: OK PackageFile: SUITOR_1.6.0.tar.gz PackageFileSize: 252.3 KiB