Package: SUITOR Version: 1.6.0 Command: rm -rf SUITOR.buildbin-libdir && mkdir SUITOR.buildbin-libdir && /Users/biocbuild/BBS/utils/build-universal.sh SUITOR_1.6.0.tar.gz /Library/Frameworks/R.framework/Resources/bin/R SUITOR.buildbin-libdir StartedAt: 2024-10-15 20:32:02 -0400 (Tue, 15 Oct 2024) EndedAt: 2024-10-15 20:32:14 -0400 (Tue, 15 Oct 2024) EllapsedTime: 11.5 seconds RetCode: 0 Status: OK PackageFile: SUITOR_1.6.0.tgz PackageFileSize: 306.9 KiB