Package: STdeconvolve Version: 1.8.0 Command: chmod a+r STdeconvolve -R && F:\biocbuild\bbs-3.19-bioc\R\bin\R.exe CMD build --keep-empty-dirs --no-resave-data STdeconvolve StartedAt: 2024-06-26 22:14:44 -0400 (Wed, 26 Jun 2024) EndedAt: 2024-06-26 22:18:11 -0400 (Wed, 26 Jun 2024) EllapsedTime: 206.9 seconds RetCode: 0 Status: OK PackageFile: STdeconvolve_1.8.0.tar.gz PackageFileSize: 1.885 MiB