Package: STdeconvolve Version: 1.7.0 Command: /Library/Frameworks/R.framework/Resources/bin/R CMD check --install=check:STdeconvolve.install-out.txt --library=/Library/Frameworks/R.framework/Resources/library --no-vignettes --timings STdeconvolve_1.7.0.tar.gz StartedAt: 2024-03-02 11:21:39 -0500 (Sat, 02 Mar 2024) EndedAt: 2024-03-02 11:28:15 -0500 (Sat, 02 Mar 2024) EllapsedTime: 395.7 seconds RetCode: 0 Status: OK CheckDir: STdeconvolve.Rcheck Warnings: 0