Package: STROMA4 Version: 1.28.0 Command: /home/biocbuild/bbs-3.19-bioc/R/bin/R CMD check --install=check:STROMA4.install-out.txt --library=/home/biocbuild/bbs-3.19-bioc/R/site-library --timings STROMA4_1.28.0.tar.gz StartedAt: 2024-10-17 05:38:41 -0400 (Thu, 17 Oct 2024) EndedAt: 2024-10-17 05:39:44 -0400 (Thu, 17 Oct 2024) EllapsedTime: 63.1 seconds RetCode: 1 Status: ERROR CheckDir: STROMA4.Rcheck Warnings: NA