Package: STROMA4 Version: 1.28.0 Command: /home/biocbuild/bbs-3.19-bioc/R/bin/R CMD build --keep-empty-dirs --no-resave-data STROMA4 StartedAt: 2024-10-16 21:03:57 -0400 (Wed, 16 Oct 2024) EndedAt: 2024-10-16 21:04:13 -0400 (Wed, 16 Oct 2024) EllapsedTime: 16.0 seconds RetCode: 0 Status: OK PackageFile: STROMA4_1.28.0.tar.gz PackageFileSize: 108 KiB