Package: STROMA4 Version: 1.28.0 Command: /Library/Frameworks/R.framework/Resources/bin/R CMD INSTALL STROMA4 StartedAt: 2024-10-16 15:27:13 -0400 (Wed, 16 Oct 2024) EndedAt: 2024-10-16 15:27:22 -0400 (Wed, 16 Oct 2024) EllapsedTime: 9.0 seconds RetCode: 0 Status: OK