Package: STROMA4 Version: 1.28.0 Command: /Library/Frameworks/R.framework/Resources/bin/R CMD build --keep-empty-dirs --no-resave-data STROMA4 StartedAt: 2024-06-10 05:37:50 -0400 (Mon, 10 Jun 2024) EndedAt: 2024-06-10 05:38:21 -0400 (Mon, 10 Jun 2024) EllapsedTime: 31.6 seconds RetCode: 0 Status: OK PackageFile: STROMA4_1.28.0.tar.gz PackageFileSize: 211 KiB