Package: STRINGdb Version: 2.16.4 Command: E:\biocbuild\bbs-3.19-bioc\R\bin\R.exe CMD check --no-multiarch --install=check:STRINGdb.install-out.txt --library=E:\biocbuild\bbs-3.19-bioc\R\library --no-vignettes --timings STRINGdb_2.16.4.tar.gz StartedAt: 2024-10-17 06:16:49 -0400 (Thu, 17 Oct 2024) EndedAt: 2024-10-17 06:23:46 -0400 (Thu, 17 Oct 2024) EllapsedTime: 416.7 seconds RetCode: 0 Status: OK CheckDir: STRINGdb.Rcheck Warnings: 0