Package: STRINGdb Version: 2.16.4 Command: F:\biocbuild\bbs-3.19-bioc\R\bin\R.exe CMD INSTALL STRINGdb StartedAt: 2024-06-26 15:55:52 -0400 (Wed, 26 Jun 2024) EndedAt: 2024-06-26 15:56:07 -0400 (Wed, 26 Jun 2024) EllapsedTime: 14.6 seconds RetCode: 0 Status: OK