Package: STRINGdb Version: 2.16.4 Command: rm -rf STRINGdb.buildbin-libdir && mkdir STRINGdb.buildbin-libdir && F:\biocbuild\bbs-3.19-bioc\R\bin\R.exe CMD INSTALL --build --library=STRINGdb.buildbin-libdir STRINGdb_2.16.4.tar.gz StartedAt: 2024-06-27 09:00:28 -0400 (Thu, 27 Jun 2024) EndedAt: 2024-06-27 09:00:46 -0400 (Thu, 27 Jun 2024) EllapsedTime: 18.5 seconds RetCode: 0 Status: OK PackageFile: STRINGdb_2.16.4.zip PackageFileSize: 10.06 MiB