Package: STRINGdb Version: 2.16.4 Command: /Library/Frameworks/R.framework/Resources/bin/R CMD check --install=check:STRINGdb.install-out.txt --library=/Library/Frameworks/R.framework/Resources/library --no-vignettes --timings STRINGdb_2.16.4.tar.gz StartedAt: 2024-10-17 13:59:21 -0400 (Thu, 17 Oct 2024) EndedAt: 2024-10-17 14:08:33 -0400 (Thu, 17 Oct 2024) EllapsedTime: 551.9 seconds RetCode: 0 Status: OK CheckDir: STRINGdb.Rcheck Warnings: 0