Package: STRINGdb Version: 2.16.4 Command: /Library/Frameworks/R.framework/Resources/bin/R CMD build --keep-empty-dirs --no-resave-data STRINGdb StartedAt: 2024-10-16 23:46:58 -0400 (Wed, 16 Oct 2024) EndedAt: 2024-10-16 23:52:18 -0400 (Wed, 16 Oct 2024) EllapsedTime: 320.4 seconds RetCode: 0 Status: OK PackageFile: STRINGdb_2.16.4.tar.gz PackageFileSize: 9.949 MiB