Package: STRINGdb Version: 2.16.0 Command: /home/biocbuild/R/R-beta-2024-04-15_r86425/bin/R CMD check --install=check:STRINGdb.install-out.txt --library=/home/biocbuild/R/R-beta-2024-04-15_r86425/site-library --no-vignettes --timings STRINGdb_2.16.0.tar.gz StartedAt: 2024-05-06 12:21:45 -0000 (Mon, 06 May 2024) EndedAt: 2024-05-06 12:28:53 -0000 (Mon, 06 May 2024) EllapsedTime: 427.8 seconds RetCode: 0 Status: OK CheckDir: STRINGdb.Rcheck Warnings: 0