Package: STRINGdb Version: 2.16.4 Command: /Library/Frameworks/R.framework/Resources/bin/R CMD check --install=check:STRINGdb.install-out.txt --library=/Library/Frameworks/R.framework/Resources/library --no-vignettes --timings STRINGdb_2.16.4.tar.gz StartedAt: 2024-06-11 07:27:38 -0400 (Tue, 11 Jun 2024) EndedAt: 2024-06-11 07:37:25 -0400 (Tue, 11 Jun 2024) EllapsedTime: 587.1 seconds RetCode: 0 Status: OK CheckDir: STRINGdb.Rcheck Warnings: 0