Package: STRINGdb Version: 2.16.4 Command: /Library/Frameworks/R.framework/Resources/bin/R CMD check --install=check:STRINGdb.install-out.txt --library=/Library/Frameworks/R.framework/Resources/library --no-vignettes --timings STRINGdb_2.16.4.tar.gz StartedAt: 2024-10-18 14:12:43 -0400 (Fri, 18 Oct 2024) EndedAt: 2024-10-18 14:18:53 -0400 (Fri, 18 Oct 2024) EllapsedTime: 369.8 seconds RetCode: 0 Status: OK CheckDir: STRINGdb.Rcheck Warnings: 0