Package: STRINGdb Version: 2.16.4 Command: rm -rf STRINGdb.buildbin-libdir && mkdir STRINGdb.buildbin-libdir && /Users/biocbuild/BBS/utils/build-universal.sh STRINGdb_2.16.4.tar.gz /Library/Frameworks/R.framework/Resources/bin/R STRINGdb.buildbin-libdir StartedAt: 2024-10-15 20:31:16 -0400 (Tue, 15 Oct 2024) EndedAt: 2024-10-15 20:31:25 -0400 (Tue, 15 Oct 2024) EllapsedTime: 9.1 seconds RetCode: 0 Status: OK PackageFile: STRINGdb_2.16.4.tgz PackageFileSize: 10.13 MiB