Package: STRINGdb Version: 2.16.4 Maintainer: Damian Szklarczyk MaintainerEmail: damian.szklarczyk at imls.uzh.ch git_url: https://git.bioconductor.org/packages/STRINGdb git_branch: RELEASE_3_19 git_last_commit: b41e8d0 git_last_commit_date: 2024-05-31 06:10:27 -0400 (Fri, 31 May 2024)