Package: STATegRa Version: 1.40.0 Command: chmod a+r STATegRa -R && E:\biocbuild\bbs-3.19-bioc\R\bin\R.exe CMD build --keep-empty-dirs --no-resave-data STATegRa StartedAt: 2024-10-16 22:13:06 -0400 (Wed, 16 Oct 2024) EndedAt: 2024-10-16 22:15:44 -0400 (Wed, 16 Oct 2024) EllapsedTime: 157.8 seconds RetCode: 0 Status: OK PackageFile: STATegRa_1.40.0.tar.gz PackageFileSize: 4.155 MiB