Package: STATegRa Version: 1.40.0 Command: /Library/Frameworks/R.framework/Resources/bin/R CMD INSTALL STATegRa StartedAt: 2024-10-16 15:21:01 -0400 (Wed, 16 Oct 2024) EndedAt: 2024-10-16 15:21:35 -0400 (Wed, 16 Oct 2024) EllapsedTime: 33.8 seconds RetCode: 0 Status: OK