Package: SRAdb Version: 1.66.0 Command: F:\biocbuild\bbs-3.19-bioc\R\bin\R.exe CMD check --no-multiarch --install=check:SRAdb.install-out.txt --library=F:\biocbuild\bbs-3.19-bioc\R\library --no-vignettes --timings SRAdb_1.66.0.tar.gz StartedAt: 2024-06-27 06:37:22 -0400 (Thu, 27 Jun 2024) EndedAt: 2024-06-27 06:38:29 -0400 (Thu, 27 Jun 2024) EllapsedTime: 66.5 seconds RetCode: 0 Status: OK CheckDir: SRAdb.Rcheck Warnings: 0