Package: SRAdb Version: 1.66.0 Command: chmod a+r SRAdb -R && F:\biocbuild\bbs-3.19-bioc\R\bin\R.exe CMD build --keep-empty-dirs --no-resave-data SRAdb StartedAt: 2024-06-26 22:12:26 -0400 (Wed, 26 Jun 2024) EndedAt: 2024-06-26 22:12:48 -0400 (Wed, 26 Jun 2024) EllapsedTime: 21.7 seconds RetCode: 0 Status: OK PackageFile: SRAdb_1.66.0.tar.gz PackageFileSize: 767.8 KiB