Package: SRAdb Version: 1.66.0 Command: /Library/Frameworks/R.framework/Resources/bin/R CMD INSTALL SRAdb StartedAt: 2024-06-09 15:08:38 -0400 (Sun, 09 Jun 2024) EndedAt: 2024-06-09 15:08:51 -0400 (Sun, 09 Jun 2024) EllapsedTime: 12.2 seconds RetCode: 0 Status: OK