Package: SRAdb Version: 1.66.0 Command: /Library/Frameworks/R.framework/Resources/bin/R CMD check --install=check:SRAdb.install-out.txt --library=/Library/Frameworks/R.framework/Resources/library --no-vignettes --timings SRAdb_1.66.0.tar.gz StartedAt: 2024-06-09 23:21:26 -0400 (Sun, 09 Jun 2024) EndedAt: 2024-06-09 23:22:31 -0400 (Sun, 09 Jun 2024) EllapsedTime: 65.6 seconds RetCode: 0 Status: OK CheckDir: SRAdb.Rcheck Warnings: 0