Package: SRAdb Version: 1.66.0 Command: rm -rf SRAdb.buildbin-libdir && mkdir SRAdb.buildbin-libdir && /Users/biocbuild/BBS/utils/build-universal.sh SRAdb_1.66.0.tar.gz /Library/Frameworks/R.framework/Resources/bin/R SRAdb.buildbin-libdir StartedAt: 2024-06-11 13:25:24 -0400 (Tue, 11 Jun 2024) EndedAt: 2024-06-11 13:25:42 -0400 (Tue, 11 Jun 2024) EllapsedTime: 18.6 seconds RetCode: 0 Status: OK PackageFile: SRAdb_1.66.0.tgz PackageFileSize: 844.9 KiB