Package: SRAdb Version: 1.66.0 Command: /Library/Frameworks/R.framework/Resources/bin/R CMD build --keep-empty-dirs --no-resave-data SRAdb StartedAt: 2024-10-17 10:08:39 -0400 (Thu, 17 Oct 2024) EndedAt: 2024-10-17 10:09:00 -0400 (Thu, 17 Oct 2024) EllapsedTime: 21.5 seconds RetCode: 0 Status: OK PackageFile: SRAdb_1.66.0.tar.gz PackageFileSize: 889.9 KiB