Package: SQUADD Version: 1.54.0 Command: chmod a+r SQUADD -R && F:\biocbuild\bbs-3.19-bioc\R\bin\R.exe CMD build --keep-empty-dirs --no-resave-data SQUADD StartedAt: 2024-06-26 22:12:04 -0400 (Wed, 26 Jun 2024) EndedAt: 2024-06-26 22:12:25 -0400 (Wed, 26 Jun 2024) EllapsedTime: 20.7 seconds RetCode: 0 Status: OK PackageFile: SQUADD_1.54.0.tar.gz PackageFileSize: 684.1 KiB