Package: SQUADD Version: 1.54.0 Command: /Library/Frameworks/R.framework/Resources/bin/R CMD build --keep-empty-dirs --no-resave-data SQUADD StartedAt: 2024-10-16 23:42:53 -0400 (Wed, 16 Oct 2024) EndedAt: 2024-10-16 23:43:21 -0400 (Wed, 16 Oct 2024) EllapsedTime: 27.5 seconds RetCode: 0 Status: OK PackageFile: SQUADD_1.54.0.tar.gz PackageFileSize: 994.6 KiB