Package: SQUADD Version: 1.54.0 Command: rm -rf SQUADD.buildbin-libdir && mkdir SQUADD.buildbin-libdir && /Users/biocbuild/BBS/utils/build-universal.sh SQUADD_1.54.0.tar.gz /Library/Frameworks/R.framework/Resources/bin/R SQUADD.buildbin-libdir StartedAt: 2024-06-10 00:42:03 -0400 (Mon, 10 Jun 2024) EndedAt: 2024-06-10 00:42:08 -0400 (Mon, 10 Jun 2024) EllapsedTime: 4.4 seconds RetCode: 0 Status: OK PackageFile: SQUADD_1.54.0.tgz PackageFileSize: 1.008 MiB