Package: SQUADD Version: 1.54.0 Command: /Library/Frameworks/R.framework/Resources/bin/R CMD build --keep-empty-dirs --no-resave-data SQUADD StartedAt: 2024-10-17 10:08:23 -0400 (Thu, 17 Oct 2024) EndedAt: 2024-10-17 10:08:42 -0400 (Thu, 17 Oct 2024) EllapsedTime: 19.5 seconds RetCode: 0 Status: OK PackageFile: SQUADD_1.54.0.tar.gz PackageFileSize: 994.1 KiB