Package: SPsimSeq Version: 1.14.0 Command: rm -rf SPsimSeq.buildbin-libdir && mkdir SPsimSeq.buildbin-libdir && E:\biocbuild\bbs-3.19-bioc\R\bin\R.exe CMD INSTALL --build --library=SPsimSeq.buildbin-libdir SPsimSeq_1.14.0.tar.gz StartedAt: 2024-10-17 08:43:34 -0400 (Thu, 17 Oct 2024) EndedAt: 2024-10-17 08:44:27 -0400 (Thu, 17 Oct 2024) EllapsedTime: 53.4 seconds RetCode: 0 Status: OK PackageFile: SPsimSeq_1.14.0.zip PackageFileSize: 751.1 KiB