Package: SPsimSeq Version: 1.14.0 Command: /Library/Frameworks/R.framework/Resources/bin/R CMD INSTALL SPsimSeq StartedAt: 2024-10-16 16:26:44 -0400 (Wed, 16 Oct 2024) EndedAt: 2024-10-16 16:28:03 -0400 (Wed, 16 Oct 2024) EllapsedTime: 78.7 seconds RetCode: 0 Status: OK