Package: SPOTlight Version: 1.8.0 Command: E:\biocbuild\bbs-3.19-bioc\R\bin\R.exe CMD INSTALL SPOTlight StartedAt: 2024-10-16 16:37:02 -0400 (Wed, 16 Oct 2024) EndedAt: 2024-10-16 16:37:34 -0400 (Wed, 16 Oct 2024) EllapsedTime: 31.2 seconds RetCode: 0 Status: OK