Package: SPOTlight Version: 1.8.0 Command: chmod a+r SPOTlight -R && E:\biocbuild\bbs-3.19-bioc\R\bin\R.exe CMD build --keep-empty-dirs --no-resave-data SPOTlight StartedAt: 2024-10-16 22:09:40 -0400 (Wed, 16 Oct 2024) EndedAt: 2024-10-16 22:13:13 -0400 (Wed, 16 Oct 2024) EllapsedTime: 213.8 seconds RetCode: 0 Status: OK PackageFile: SPOTlight_1.8.0.tar.gz PackageFileSize: 1.765 MiB