Package: SPOTlight Version: 1.8.0 Command: rm -rf SPOTlight.buildbin-libdir && mkdir SPOTlight.buildbin-libdir && E:\biocbuild\bbs-3.19-bioc\R\bin\R.exe CMD INSTALL --build --library=SPOTlight.buildbin-libdir SPOTlight_1.8.0.tar.gz StartedAt: 2024-10-17 08:43:29 -0400 (Thu, 17 Oct 2024) EndedAt: 2024-10-17 08:44:05 -0400 (Thu, 17 Oct 2024) EllapsedTime: 36.8 seconds RetCode: 0 Status: OK PackageFile: SPOTlight_1.8.0.zip PackageFileSize: 1.445 MiB