Package: SPOTlight Version: 1.8.0 Command: /home/biocbuild/bbs-3.19-bioc/R/bin/R CMD check --install=check:SPOTlight.install-out.txt --library=/home/biocbuild/bbs-3.19-bioc/R/site-library --timings SPOTlight_1.8.0.tar.gz StartedAt: 2024-10-17 05:31:38 -0400 (Thu, 17 Oct 2024) EndedAt: 2024-10-17 05:38:45 -0400 (Thu, 17 Oct 2024) EllapsedTime: 426.9 seconds RetCode: 0 Status: OK CheckDir: SPOTlight.Rcheck Warnings: 0