Package: SPOTlight Version: 1.8.0 Command: /Library/Frameworks/R.framework/Resources/bin/R CMD build --keep-empty-dirs --no-resave-data SPOTlight StartedAt: 2024-06-10 05:29:10 -0400 (Mon, 10 Jun 2024) EndedAt: 2024-06-10 05:33:36 -0400 (Mon, 10 Jun 2024) EllapsedTime: 265.6 seconds RetCode: 0 Status: OK PackageFile: SPOTlight_1.8.0.tar.gz PackageFileSize: 4.619 MiB