Package: SPLINTER Version: 1.30.0 Command: F:\biocbuild\bbs-3.19-bioc\R\bin\R.exe CMD check --no-multiarch --install=check:SPLINTER.install-out.txt --library=F:\biocbuild\bbs-3.19-bioc\R\library --no-vignettes --timings SPLINTER_1.30.0.tar.gz StartedAt: 2024-06-27 06:33:24 -0400 (Thu, 27 Jun 2024) EndedAt: 2024-06-27 06:40:16 -0400 (Thu, 27 Jun 2024) EllapsedTime: 412.3 seconds RetCode: 0 Status: WARNINGS CheckDir: SPLINTER.Rcheck Warnings: 1