Package: SPLINTER Version: 1.30.0 Command: /Library/Frameworks/R.framework/Resources/bin/R CMD INSTALL SPLINTER StartedAt: 2024-10-16 16:07:45 -0400 (Wed, 16 Oct 2024) EndedAt: 2024-10-16 16:09:36 -0400 (Wed, 16 Oct 2024) EllapsedTime: 111.2 seconds RetCode: 0 Status: OK