Package: SPLINTER Version: 1.30.0 Command: /Library/Frameworks/R.framework/Resources/bin/R CMD build --keep-empty-dirs --no-resave-data SPLINTER StartedAt: 2024-10-16 23:40:28 -0400 (Wed, 16 Oct 2024) EndedAt: 2024-10-16 23:44:03 -0400 (Wed, 16 Oct 2024) EllapsedTime: 214.5 seconds RetCode: 0 Status: OK PackageFile: SPLINTER_1.30.0.tar.gz PackageFileSize: 961.3 KiB