Package: SPLINTER Version: 1.30.0 Command: /home/biocbuild/R/R-beta-2024-04-15_r86425/bin/R CMD INSTALL SPLINTER StartedAt: 2024-05-08 20:41:20 -0000 (Wed, 08 May 2024) EndedAt: 2024-05-08 20:42:26 -0000 (Wed, 08 May 2024) EllapsedTime: 66.2 seconds RetCode: 0 Status: OK