Package: SPLINTER Version: 1.30.0 Command: /home/biocbuild/R/R-beta-2024-04-15_r86425/bin/R CMD build --keep-empty-dirs --no-resave-data SPLINTER StartedAt: 2024-05-09 03:51:46 -0000 (Thu, 09 May 2024) EndedAt: 2024-05-09 03:53:52 -0000 (Thu, 09 May 2024) EllapsedTime: 126.2 seconds RetCode: 1 Status: ERROR PackageFile: None PackageFileSize: NA