Package: SPLINTER Version: 1.30.0 Command: /Library/Frameworks/R.framework/Resources/bin/R CMD INSTALL SPLINTER StartedAt: 2024-10-16 17:25:57 -0400 (Wed, 16 Oct 2024) EndedAt: 2024-10-16 17:26:57 -0400 (Wed, 16 Oct 2024) EllapsedTime: 59.6 seconds RetCode: 0 Status: OK