Package: SPLINTER Version: 1.30.0 Command: /Library/Frameworks/R.framework/Resources/bin/R CMD build --keep-empty-dirs --no-resave-data SPLINTER StartedAt: 2024-10-17 10:01:03 -0400 (Thu, 17 Oct 2024) EndedAt: 2024-10-17 10:04:11 -0400 (Thu, 17 Oct 2024) EllapsedTime: 187.5 seconds RetCode: 1 Status: ERROR PackageFile: None PackageFileSize: NA