Package: SPLINTER Version: 1.30.0 Maintainer: Diana Low MaintainerEmail: lowdiana at gmail.com git_url: https://git.bioconductor.org/packages/SPLINTER git_branch: RELEASE_3_19 git_last_commit: 29fb995 git_last_commit_date: 2024-04-30 10:53:54 -0400 (Tue, 30 Apr 2024)